BEGIN:VCALENDAR
VERSION:2.0
PRODID:-//https://awg-luzern.ch///NONSGML kigkonsult.se iCalcreator 2.10.15//
METHOD:PUBLISH
BEGIN:VEVENT
UID:20260419T154637CEST-3053aCPACg@https://awg-luzern.ch/
DTSTAMP:20260419T134637Z
DESCRIPTION:Marius Fischer\, Gesch&auml\;ftsleiter / Inhaber
DTSTART:20260701T150000Z
DTEND:20260701T190000Z
LOCATION:Viscosistadt\, Emmenbrücke ()
SUMMARY:BE Netz Bau und Energie AG\, Luzern und 42. Generalversammlung
END:VEVENT
END:VCALENDAR
