BEGIN:VCALENDAR
VERSION:2.0
PRODID:-//https://awg-luzern.ch///NONSGML kigkonsult.se iCalcreator 2.10.15//
METHOD:PUBLISH
BEGIN:VEVENT
UID:20260420T135934CEST-6648tTMh2a@https://awg-luzern.ch/
DTSTAMP:20260420T115934Z
DESCRIPTION:Zum Jubiläum auf den Gipfel des Kantons Luzern\nDie Bergbahnen
  Sörenberg sind eine wichtige Lebensader der (tourismus-)wirtschaftlichen
  Entwicklung der Randregion Entlebuch. Das Unternehmen ist innovativ\, inv
 estitionsfreudig und erfolgreich. Ende 2023 wurde die neue Luftseilbahn So
 ̈renberg &ndash\; Brienzer Rothorn&nbsp\;in Betrieb genommen. Am 6. Juli 2
 024 wird das Gipfelrestaurant mit dem Biosphären Forum wiedereröffnet &n
 dash\; drei Tage später ist die AWG der erste Gruppenanlass in der neuen 
 Infrastruktur.\n17:00 Uhr: S&ouml\;renberg - Brienzer Rothorn\nEintreffen\
 , Talstation Rothorn Bahn\, 2 Gruppen (Bahnfahrt - Gipfelap&eacute\;ro - A
 lphorn\, Besichtigung Talstation - Maschinenraum - Shop)\n18:15 Uhr: Versc
 hiebung zur Talstation Gondelbahn Rossweid\n18:30 Uhr Bergfahrt zum Restau
 rant Rossweid\n&nbsp\;\n19:00 Uhr: 40. AWG-Generalversammlung\n19:30 Uhr: 
 Talk Regionalwirtschaft und -politik\n\nPius Kaufmann (Nationalrat\, Gemei
 ndeammann)\nProf. Dr. Christoph Hauser ( Institut f&uuml\;r Betriebs- und 
 Regional&ouml\;konomie HSLU)\nDr. Michaela Tschuor (Regierungsr&auml\;tin 
 Ehem. Vorstand AWG)\n\n20:00 Uhr: Genuss\nNachtessen\n21:45 Uhr: Abmarsch 
 zur Talfahrt\n&nbsp\;
DTSTART:20240709T150000Z
DTEND:20240709T200000Z
LOCATION:Brienzer Rothorn ()
SUMMARY:40 Jahre AWG – Bergbahnen Sörenberg AG
END:VEVENT
END:VCALENDAR
